BEGIN:VCALENDAR
VERSION:2.0
PRODID:-//https://www.toddysknoxville.com///NONSGML kigkonsult.se iCalcreator 2.10.15//
METHOD:PUBLISH
BEGIN:VEVENT
UID:20260421T092801EDT-09616UkKTD@https://www.toddysknoxville.com/
DTSTAMP:20260421T132801Z
DESCRIPTION: https://www.toddysknoxville.com/blog-of-our-news-events/our-ev
 ents/event/41-in-store-free-free-spirit-tasting
DTSTART:20260424T190000Z
DTEND:20260424T220000Z
LOCATION:Toddy's Liquor & Wine (4821 Kingston Pike\, Knoxville\, TN 37919\,
  USA)
SUMMARY:In Store Free Free Spirit Tasting
URL:https://www.toddysknoxville.com/blog-of-our-news-events/our-events/even
 t/41-in-store-free-free-spirit-tasting
END:VEVENT
END:VCALENDAR
